BEGIN:VCALENDAR
PRODID:-//Mozilla.org/NONSGML Mozilla Calendar V1.1//EN
VERSION:2.0
BEGIN:VEVENT
UID:69e8a85284764
DTSTAMP:20260422T105202Z
DTSTART:20260615T100000Z
DTEND:20260616T100000Z
SUMMARY:This is an example of your Open Day title that would be added to a journalists calendar.
DESCRIPTION:This is an example of your Open Day description that would be added to a journalists calendar.
END:VEVENT
END:VCALENDAR